BEGIN:VCALENDAR
VERSION:2.0
PRODID:-//Throw Pink - ECPv6.6.2//NONSGML v1.0//EN
CALSCALE:GREGORIAN
METHOD:PUBLISH
X-ORIGINAL-URL:https://throwpink.com
X-WR-CALDESC:Events for Throw Pink
REFRESH-INTERVAL;VALUE=DURATION:PT1H
X-Robots-Tag:noindex
X-PUBLISHED-TTL:PT1H
BEGIN:VTIMEZONE
TZID:America/New_York
BEGIN:DAYLIGHT
TZOFFSETFROM:-0500
TZOFFSETTO:-0400
TZNAME:EDT
DTSTART:20250309T070000
END:DAYLIGHT
BEGIN:STANDARD
TZOFFSETFROM:-0400
TZOFFSETTO:-0500
TZNAME:EST
DTSTART:20251102T060000
END:STANDARD
END:VTIMEZONE
BEGIN:VEVENT
DTSTART;TZID=America/New_York:20251019T080000
DTEND;TZID=America/New_York:20251019T170000
DTSTAMP:20260420T181103
CREATED:20250929T123841Z
LAST-MODIFIED:20250929T123841Z
UID:529302-1760860800-1760893200@throwpink.com
SUMMARY:FDR Throw Pink Charity Doubles
DESCRIPTION:Doubles for a great cause
URL:https://throwpink.com/event/fdr-throw-pink-charity-doubles-2/
LOCATION:FDR State Park\, 2957 Crompond Road\, Yorktown Heights\, NY\, 10598\, United States
END:VEVENT
BEGIN:VEVENT
DTSTART;TZID=America/New_York:20251025T080000
DTEND;TZID=America/New_York:20251025T160000
DTSTAMP:20260420T181103
CREATED:20250929T123808Z
LAST-MODIFIED:20250929T123808Z
UID:529365-1761379200-1761408000@throwpink.com
SUMMARY:Toss for Tatas: A Spooky Throw Pink Event
DESCRIPTION:A four person team event plus costume contest! We will have raffles\, CTP’s\, an Ace pot (that if nobody hits will be donated) and other fun things!
URL:https://throwpink.com/event/toss-for-tatas-a-spooky-throw-pink-event/
ATTACH;FMTTYPE=image/png:https://throwpink.com/wp-content/uploads/2025/08/Toss-for-Tatas.png
END:VEVENT
BEGIN:VEVENT
DTSTART;TZID=America/New_York:20251025T090000
DTEND;TZID=America/New_York:20251025T170000
DTSTAMP:20260420T181103
CREATED:20250929T123728Z
LAST-MODIFIED:20250929T123748Z
UID:529793-1761382800-1761411600@throwpink.com
SUMMARY:5th Annual Throw Pink Get Real and Heal
DESCRIPTION:A fun day of doubles-New this year\, buy Mulligans in exchange for period products (donated to the NC Diaper Bank) and a live band! Back for the second year\, Chili Cook-Off (that’s lunch) and always great raffles prizes and free on-site camping! All proceeds donated to DUKE Cancer Institute\, Get real and Heel after cancer treatment fitness center at UNC and Throw Pink.
URL:https://throwpink.com/event/5th-annual-throw-pink-get-real-and-heal/
LOCATION:Deep Creek Dreams\, 2360 Deep Creek Church Rd.\, Burlington\, NC\, 27217\, United States
ATTACH;FMTTYPE=image/png:https://throwpink.com/wp-content/uploads/2025/09/TLG.png
ORGANIZER;CN="Cindy Riley":MAILTO:cindykriley@gmail.com
END:VEVENT
BEGIN:VEVENT
DTSTART;VALUE=DATE:20251026
DTEND;VALUE=DATE:20251027
DTSTAMP:20260420T181103
CREATED:20250929T123712Z
LAST-MODIFIED:20250929T123712Z
UID:529421-1761436800-1761523199@throwpink.com
SUMMARY:2025 Gals Fall Frenzy
DESCRIPTION:Save the date for the 6th annual Gals Fall Frenzy! \nThis year we are hosting this event at WildWood Park\, a beautiful wooded course just north of Atlanta. \nThe highly coveted Gals branded SWAG is back again! \n_________________________________________________________________ \nLAYOUTS: \n– ALL players (besides FJ06 and FJ08) will be playing the main blue layout.\n– FJ06 and FJ08 will be playing a modified shortened layout & will receive round ratings at the official update after the event. These age groups will also only be playing ONE round.\n__________________________________________________________________ \nJUNIORS PLAY FOR FREE! Thank you to a kind anonymous donor!! \nWe will be doing the players party and early check-in on Saturday October 25th at Schoolhouse Brewing from 5:30 – 7:30 pm. We will have food & games and you will be able to pick up your player pack here (this is a kid friendly venue with some arcade games & board games available plus non-alcoholic drinks). We will have food\, players will be responsible for purchasing their own drinks. \nLunch will be a potluck style on tournament day — stay tuned for more details on what to bring! \nCTP’s\, raffle & fun games throughout the day. \nTrophies & payout will be handed out for the event per usual to our top players in each division.
URL:https://throwpink.com/event/2025-gals-fall-frenzy/
LOCATION:Wildwood park\, Marietta GA\, 1050 Barclay Cir\, Marietta\, 30060\, United States
ATTACH;FMTTYPE=image/jpeg:https://throwpink.com/wp-content/uploads/2025/08/2025-gals-fall-frenzy-1751484092-large.jpg
ORGANIZER;CN="Sierra Buford":MAILTO:galsdiscgolf@gmail.com
END:VEVENT
END:VCALENDAR