BEGIN:VCALENDAR
VERSION:2.0
PRODID:-//Throw Pink - ECPv6.6.2//NONSGML v1.0//EN
CALSCALE:GREGORIAN
METHOD:PUBLISH
X-WR-CALNAME:Throw Pink
X-ORIGINAL-URL:https://throwpink.com
X-WR-CALDESC:Events for Throw Pink
REFRESH-INTERVAL;VALUE=DURATION:PT1H
X-Robots-Tag:noindex
X-PUBLISHED-TTL:PT1H
BEGIN:VTIMEZONE
TZID:America/New_York
BEGIN:DAYLIGHT
TZOFFSETFROM:-0500
TZOFFSETTO:-0400
TZNAME:EDT
DTSTART:20250309T070000
END:DAYLIGHT
BEGIN:STANDARD
TZOFFSETFROM:-0400
TZOFFSETTO:-0500
TZNAME:EST
DTSTART:20251102T060000
END:STANDARD
END:VTIMEZONE
BEGIN:VEVENT
DTSTART;TZID=America/New_York:20250628T080000
DTEND;TZID=America/New_York:20250628T170000
DTSTAMP:20260421T142721
CREATED:20250529T173702Z
LAST-MODIFIED:20250529T173702Z
UID:527931-1751097600-1751130000@throwpink.com
SUMMARY:Connecticut Women's Disc Golf Championship
DESCRIPTION:We will be offering all PDGA Women’s divisions for this event\, as well as the Blue (rating <970) and the Purple (rating <800) division intended for players that may not feel comfortable playing multiple rounds. \nAll divisions will play 2 rounds with the exception of Blue\, Purple\, FJ06\, FJ08 and FJ10 only playing 1 round. There will be a brief awards ceremony both at lunch and after round 2 so that the divisions that are only playing one round are not required to stay the entire day unless desired.
URL:https://throwpink.com/event/connecticut-womens-disc-golf-championship-2/
LOCATION:Norbrook Farm Brewery\, 204 Stillman Hill Rd\, Colebrook\, CT\, 06021\, United States
ATTACH;FMTTYPE=image/jpeg:https://throwpink.com/wp-content/uploads/2025/05/connecticut-womens-disc-golf-championship-1743529396-large.jpg
ORGANIZER;CN="CTP Events":MAILTO:ctpeventsdg@gmail.com
END:VEVENT
BEGIN:VEVENT
DTSTART;TZID=America/New_York:20250713T090000
DTEND;TZID=America/New_York:20250713T170000
DTSTAMP:20260421T142721
CREATED:20250529T174650Z
LAST-MODIFIED:20250529T174650Z
UID:527776-1752397200-1752426000@throwpink.com
SUMMARY:Throw Masters Crystal Pond
DESCRIPTION:Throw Masters Crystal Pond is the second in the 2025 series of three NEFA and PDGA Sanctioned C Tier Masters tournaments in Northern Connecticut. \nOnly those born in 1985 or earlier are eligible to play this event. All divisions will play two rounds\, until I am told differently! \nSeries event dates and locations are:\n06/08/2025 at Norbrook Farm in Colebrook\, CT\n07/13/2025 at Crystal Pond Park in Woodstock\, CT\n10/04/2025 at Wickham Park in Manchester\, CT \nPros:\n$ 3 PDGA Sanctioning\n$ 2 NEFA Sanctioning\n$45 Payouts \nAmateur players: $21\n$ 3 PDGA Sanctioning Per Player\n$ 2 NEFA Sanctioning Per Player\n$ 5 To Course\n$ 2 To Throw Pink\n$11 Players Pack/ Awards \nFemale divisions will be able to register 3 days ahead of general registration. \nPlayers pack is a Throw Masters mini\, and Throw Masters (or DGZ) coveted item TBD (possibly more based on sponsorships). \nPlayers compete for custom award discs.\nAward system:\nFirst place in every populated division.\nFirst and Second places in divisions with 4 or more people.\nFirst\, Second and Third places in divisions with 6 or more people.\nAwards beyond the above are at the discretion of the tournament director. \nPRO players will have cash payouts. \nRaffle tickets are available for $5 during online registration OR cash/Venmo only on day of event- Unlimited. \nAce pot is $5 during online registration OR cash/Venmo on day of event. If no ace is hit the ace pot is donated to Audubon. \nDisc Golf Zen “Family” dry-fit tees: Offering special order dry-fit tees to fund-raise! You will choose color and size and these orders will cut off on 6/16. There is a photo of our team in the hoodies to show you the Carolina and Azalea colors as well as the logos on the Carolina Blue. \nPlease consider sponsoring the Throw Masters events: Tee-Level Sponsor $25\, Birdie Level Sponsor $100\, Eagle-Level Sponsor $500. Contact Sherry at SherrySBoyd@Gmail.com for sponsor level details. \nPlease do not allow economic reasons to prevent you from playing in any Disc Golf Zen event. Reach out to me privately and we can figure out a way to make participation affordable.
URL:https://throwpink.com/event/throw-masters-crystal-pond-3/
LOCATION:Crystal Pond Disc Golf Course\, 305 Crystal Pond Road\, Woodstock\, CT\, United States
ATTACH;FMTTYPE=image/jpeg:https://throwpink.com/wp-content/uploads/2025/05/TM_Welcome_POSTING-2-1-scaled.jpg
ORGANIZER;CN="Sherry Boyd":MAILTO:sherrysboyd@gmail.com
END:VEVENT
BEGIN:VEVENT
DTSTART;VALUE=DATE:20250726
DTEND;VALUE=DATE:20250727
DTSTAMP:20260421T142721
CREATED:20241220T202941Z
LAST-MODIFIED:20241220T202941Z
UID:524225-1753488000-1753574399@throwpink.com
SUMMARY:Hillside Mixed Doubles - A Throw Pink Event
DESCRIPTION:BYOP Mixed Doubles\, two rounds in one day at Harris Hillside\, a private course in upstate New York. This will be an XC tier event run by two very experienced TDs. Becky Harris has been an advocate for women’s disc for 15+ years\, and Adam Harris has deep Tournament Director experience. We are excited to host a fun and enjoyable weekend with camping on property available\, and a welcoming atmosphere to all. \nIf you have any questions\, please email Adam at adamharris4@comcast.net
URL:https://throwpink.com/event/hillside-mixed-doubles-a-throw-pink-event/
LOCATION:Harris Hillside\, Maine\, NY\, 90 Hoskin Rd\, Newark Valley\, NY\, 13811\, United States
ATTACH;FMTTYPE=image/jpeg:https://throwpink.com/wp-content/uploads/2024/12/Hillside-Mixed-Doubles-A-Throw-Link-Event-Logo.jpg
ORGANIZER;CN="Adam and Becky Harris":MAILTO:adamwharris4@gmail.com
END:VEVENT
BEGIN:VEVENT
DTSTART;TZID=America/New_York:20250816T080000
DTEND;TZID=America/New_York:20250816T180000
DTSTAMP:20260421T142721
CREATED:20250722T191036Z
LAST-MODIFIED:20250722T191036Z
UID:529067-1755331200-1755367200@throwpink.com
SUMMARY:Cassandra Gentry Memorial VI
DESCRIPTION:BYOP Doubles event to honor and celebrate our beloved friend Cassandra Gentry who passed unexpectedly at the young age of 27. Cass always made for a fun time! She was loud & blunt and free to be herself with everyone. She was a party girl on and off the course and was also super kind & very loyal to her friends. Her circle seemed endless as she welcomed new company as if they were long time friends. Join us for this one-of-a-kind tournament that continues it’s tradition as a casual fun event intended to connect new and old friends and strengthen the disc golf community. Any beefs between players are set aside on this day and we embrace mutual love & a fucking good time together. \n$50 a team with 3 Divisions – Open/Am/Mixed\n$30 per team will go to payouts \nAll Divisions will play an 18 hole layout:\nOpen – Blue/White\nAm – White/Blue\nMixed – Red/White \nThis year’s donation recipients:\nCaden’s College Fund\nPractice Basket at Bandemer Park\nThrow Pink \nMore info on this year’s EPIC raffle and players pack to come. If you would like to make a donation please contact Phil Common\, Jen Trombley\, or Becky Gentry \nPlease register with both player’s names and pdga#s or emails. Cashless Registration Opens NOW!
URL:https://throwpink.com/event/cassandra-gentry-memorial-vi/
LOCATION:1352 Lake Shore Dr\, Ann Arbor\, MI 48104\, 1352 Lake Shore Dr.\, Ann Arbor\, MI\, 48104\, United States
ATTACH;FMTTYPE=image/jpeg:https://throwpink.com/wp-content/uploads/2025/07/the-cassandra-gentry-memorial-xi-1739123394-large.jpg
ORGANIZER;CN="Jen Trombley":MAILTO:ballerinaboxer@gmail.com
END:VEVENT
BEGIN:VEVENT
DTSTART;TZID=America/New_York:20250816T100000
DTEND;TZID=America/New_York:20250816T160000
DTSTAMP:20260421T142721
CREATED:20250619T151705Z
LAST-MODIFIED:20250619T151705Z
UID:528172-1755338400-1755360000@throwpink.com
SUMMARY:Find Your Force Singles
DESCRIPTION:Find Your Force is a C-tier PDGA and NEFA sanctioned\, women’s singles event at Crystal Pond Disc Golf Course in Woodstock Valley\, CT. \nApproved as a developmental CEP so the fee for non-PDGA members is discounted to $5 per player instead of $15. \nJuniors and Purple Division will be playing one round of 18\, all other divisions will play two rounds\, until I am told differently. \nThere will be some mixed division cards on round 1 out of necessity. \nGoing minimalist- AMs Players’ Pack will be one Find Your Force Mini (marker)\, perhaps a few other cherished DG related items (depending on sponsorships). For those seeking discs\, custom Find Your Force discs are available for purchase during registration. \nEntry fees:\nJuniors $15/$13\nAmateurs $23\nPROs $49 \nPros:\n$ 3 PDGA Sanctioning\n$ 2 NEFA Sanctioning\n$44 Payouts \nAmateur players: $21\n$ 3 PDGA Sanctioning Per Player\n$ 2 NEFA Sanctioning Per Player\n$ 5 To Course\n$ 2 To Throw Pink\n$11 Players Pack/ Awards \nPlayers compete for awards/trophies.\nFirst place in every populated division.\nFirst and Second place in populated divisions with 4 or more people.\nFirst\, Second and Third place in populated divisions with 6 or more people.\nFirst\, Second and Third in populated Junior Divisions. \nPRO players will have cash payouts. \nPlay will follow all PDGA rules and a Mini must be used to mark your lie (no flipping please). \nAce Pot: $5 during online registration or day-of. If no aces after 36 holes\, the Ace fund will go to Audubon. \nRaffle: $5 during online registration or day-of. Unlimited. Raffle will be held after awards ceremony. \nTee Sponsorship $25: for those interested in having their name or company name posted at a tee for the day- available during online registration only. \nBalance of the proceeds from Find Your Force tournament will go to Throw Pink to help grow the sport. \nPlease do not allow economic reasons to prevent you from playing in Find Your Force. Reach out to me privately and we can figure out a way to make participation affordable. \nIf you have any questions\, please contact sherrysboyd@gmail.com or contact one of us through the link above.
URL:https://throwpink.com/event/find-your-force-singles/
LOCATION:Crystal Pond disc golf course\, Woodstock\, CT\, United States
ATTACH;FMTTYPE=image/jpeg:https://throwpink.com/wp-content/uploads/2025/06/FYF_POSTING-scaled.jpg
ORGANIZER;CN="Sherry Boyd":MAILTO:sherrysboyd@gmail.com
END:VEVENT
BEGIN:VEVENT
DTSTART;TZID=America/New_York:20250906T080000
DTEND;TZID=America/New_York:20250907T180000
DTSTAMP:20260421T142721
CREATED:20250711T123557Z
LAST-MODIFIED:20250711T123557Z
UID:528944-1757145600-1757268000@throwpink.com
SUMMARY:27th Annual Lake Russell Open - A GSS & Throw Pink Event
DESCRIPTION:A 2025 Georgia Super Series & Throw Pink Event\nSeptember 6–7\, 2025 | PDGA Sanctioned C-Tier | 144 Players \nJoin us at beautiful Richard B. Russell State Park in Elberton\, Georgia\, for the 27th Annual Lake Russell Open — a premier disc golf experience and proud stop on the 2025 Georgia Super Series. \nThis two-day PDGA-sanctioned C-Tier will feature 144 competitors across two pools with three rounds of challenging play\, incorporating both the OG Russell and Guidestones courses. \nNo non-PDGA fee for women \n100% payout for of FP & FA fields
URL:https://throwpink.com/event/27th-annual-lake-russell-open-a-gss-throw-pink-event/
LOCATION:Lake Russell\, 2650 Russell State Park Rd\, Elberton\, GA\, 30635\, United States
ATTACH;FMTTYPE=image/png:https://throwpink.com/wp-content/uploads/2025/07/CDA1A569-B0F4-494D-A497-26C4D6841117.png
END:VEVENT
BEGIN:VEVENT
DTSTART;TZID=America/New_York:20250921T100000
DTEND;TZID=America/New_York:20250921T150000
DTSTAMP:20260421T142721
CREATED:20250619T151643Z
LAST-MODIFIED:20250619T151643Z
UID:528178-1758448800-1758466800@throwpink.com
SUMMARY:Throw Masters Doubles
DESCRIPTION:Throw Masters Doubles is a bring-your-own-partner\, best-disc\, one-round\, event at Norbrook Farm on Sunday September 21\, 2025. Only those born in 1985 or earlier are eligible to play. \nWe encourage and welcome all abilities of master disc golfers including those who have never competed in a tournament before- make Throw Masters Doubles your first! \nDivisions available for 2 women\, 2 men (Mixed) and one man one woman (defined as FM and PR). Both players must fall in the age range of the division\, or the team plays in the division of the younger player. \nIndividual Entry fees per player:\n$30 for Amateurs\n$45 for PROs. \nAmateurs Players’ Pack will include choice of one Throw Masters Doubles custom disc (brand TBD)\, perhaps another cherished DG related items depending on sponsorships. \nALL players compete for custom metal minis:\nFirst place in every division populated by 9/5/25.\nFirst and Second place in divisions with 3 or more teams by 9/5/25\nFirst\, Second and Third place in divisions with 4 or more teams by 9/5/25 \nPRO players will have cash payouts. \n18 hole regular Layout for AMs and PROs. \nScoring for this event will be on UDisc. Cards will be pre-assigned. Play will follow PDGA rules and a Mini must be used to mark your lie (no flipping please). \nAdd-ons:\nAce Pot: for $5 cash or Venmo day of! If no aces after 22 holes\, the Ace fund will go to Audobon. \nAmateurs: Team Tee-Shot only Mulligans for $5 each; max of 2 per team. \nAll: Raffle tickets are 5 for $5. Unlimited. Raffle will be held after awards ceremony. \nAll: Tee Sponsorship is $25 for those interested in having their name or company name posted at a tee for the day. \nBalance of the proceeds from tournament will go to Throw Pink to help grow the sport. \nIf you have any questions\, please contact sherrysboyd@gmail.com
URL:https://throwpink.com/event/throw-masters-doubles/
LOCATION:Norbrook Farm Brewery\, 204 Stillman Hill Rd\, Colebrook\, CT\, 06021\, United States
ATTACH;FMTTYPE=image/jpeg:https://throwpink.com/wp-content/uploads/2025/06/TM_DOUBLES_59.jpg
ORGANIZER;CN="Sherry Boyd":MAILTO:sherrysboyd@gmail.com
END:VEVENT
BEGIN:VEVENT
DTSTART;TZID=America/New_York:20251002T160000
DTEND;TZID=America/New_York:20251002T160000
DTSTAMP:20260421T142721
CREATED:20250529T173940Z
LAST-MODIFIED:20250529T173940Z
UID:527483-1759420800-1759420800@throwpink.com
SUMMARY:Par Titty - Benefit Supporting Stage 4 Breast Cancer Research
DESCRIPTION:Every Thursday in October (Breast Cancer Awareness month)\, you can play Par Titty. It’s the Par Two course at The Spring Country Club (f/k/a Spring Valley Golf and Disc Golf course) in Spring\, Texas. There are CTPs for every hole. Big Raffle on the final Thursday night. There’s a food truck and putting league after dark. Sign-ups are day at the event (no pre-registration). All are welcome! \nAll funds raised go to support Stage 4 Breast Cancer Research at MD Anderson Cancer Center.
URL:https://throwpink.com/event/par-titty-benefit-supporting-stage-4-breast-cancer-research/
LOCATION:Spring Country Club\, 25110 Gosling Rd.\, Spring\, TX\, 77389\, United States
ATTACH;FMTTYPE=image/jpeg:https://throwpink.com/wp-content/uploads/2025/05/PT-Event-Banner-scaled.jpg
ORGANIZER;CN="Leigh Ann Rucker":MAILTO:leigh.rucker@gmail.com
END:VEVENT
BEGIN:VEVENT
DTSTART;TZID=America/New_York:20251004T100000
DTEND;TZID=America/New_York:20251004T150000
DTSTAMP:20260421T142721
CREATED:20250711T123543Z
LAST-MODIFIED:20250711T123543Z
UID:528184-1759572000-1759590000@throwpink.com
SUMMARY:Throw Masters Wickham
DESCRIPTION:Throw Masters Wickham is the third in the 2025 series of three NEFA and PDGA Sanctioned C Tier Masters tournaments in Northern Connecticut. Proceeds from this event will go to Throw Pink to help grow the sport. \nThis event is a one-day\, single round- 22 hole event\, with the third annual Throw Masters Distance Challenge (optional) activity following the awards and raffle. \nOnly those born in 1985 or earlier are eligible to play this event. All divisions will play one round on Wickham’s 22. \nSeries event dates and locations are:\n06/08/2025 at Norbrook Farm in Colebrook\, CT\n07/13/2025 at Crystal Pond Park in Woodstock\, CT\n10/04/2025 at Wickham Park in Manchester\, CT \nThrow Masters:\nPros:\n$ 3 PDGA Sanctioning\n$ 2 NEFA Sanctioning\n$45 Payouts \nAmateur players: $21\n$ 3 PDGA Sanctioning Per Player\n$ 2 NEFA Sanctioning Per Player\n$ 3 To TBD\n$13 Players Pack/ Awards \nFemale divisions will be able to register 3 days ahead of general registration. \nPlayers pack is TBD (possibly more based on sponsorships). \nAmateur players compete for custom award discs.\nAward system:\nFirst place in every populated division.\nFirst and Second places in divisions with 4 or more people.\nFirst\, Second and Third places in divisions with 6 or more people.\nAwards beyond the above are at the discretion of the tournament director. \nPRO players will have cash payouts. \nRaffle tickets are available for $5 during online registration OR cash/Venmo only on day of event- Unlimited. \nAce pot is $5 during online registration OR cash/Venmo on day of event. If no ace is hit the ace pot is donated to Audubon. \nFund Raiser: “Disc Golf Zen Family” hoodies: Choose color and size and these orders will cut off on 9/12. There is a photo of our team in the hoodies to show you the Carolina Blue and Azalea colors as well as the logos on the Carolina Blue. \nPlease consider sponsoring the Throw Masters events: Tee-Level Sponsor $25\, Birdie Level Sponsor $100\, Eagle-Level Sponsor $500. Contact Sherry at SherrySBoyd@Gmail.com for sponsor level details. \nPlease do not allow economic reasons to prevent you from playing in any Disc Golf Zen event. Reach out to me privately and we can figure out a way to make participation affordable.
URL:https://throwpink.com/event/throw-masters-wickham-2/
LOCATION:Wickham Park\, Manchester\, CT\, United States
ATTACH;FMTTYPE=image/png:https://throwpink.com/wp-content/uploads/2025/06/Wickham_graphic.png
ORGANIZER;CN="Sherry Boyd":MAILTO:sherrysboyd@gmail.com
END:VEVENT
BEGIN:VEVENT
DTSTART;TZID=America/New_York:20251011T130000
DTEND;TZID=America/New_York:20251011T160000
DTSTAMP:20260421T142721
CREATED:20250929T131845Z
LAST-MODIFIED:20250929T131845Z
UID:529836-1760187600-1760198400@throwpink.com
SUMMARY:Throw Pink Clinic at The Championships
DESCRIPTION:Pre-registration is required to attend. We will not be offering on-site registration this year. \nDirections to the clinic via the various entrances to The Championship will be posted soon. Stay tuned to the pictures tab and our Facebook event page. \nLink: rebrand.ly/TPWDGCClinic \nPlease join us on the beautiful Winthrop University campus on Saturday\, October 11th\, for Throw Pink’s 12th event in conjunction with the United States Disc Golf Championship and the Throw Pink Women’s Disc Golf Championship. \nWomen and girls of all skill levels are welcome! \nIf you don’t have discs\, that’s not a problem. There will be plenty available to use during the event. Please bring water and wear comfortable shoes. \nWe will start with a quick introduction and warm-up\, followed by a disc golf instructional clinic (led by touring pros) that will get new players on their feet and refine the skills of those who have played before. We will wrap up the clinic and games by 4:00 pm \nAt that time\, the official event ends\, and participants are welcome to split up and play a fun\, casual round on a beginner-friendly temporary course or head over and watch the lead card action. \nThe spectator course is on the traditional golf course designed by Andrew Duvall\, the current USDGC and TPWDGC course designer. \nThe $30 fee ($20 for girls 12 and under) includes: \n– A fun clinic\n– A round of disc golf\,\n– A Throw Pink commemorative item\n– A Throw Pink Finisher Medal\n– Day Pass to the championship\n– A charitable donation to GoJenGo.org \nPlease arrive 15 minutes earlier than 1:30 pm to pick up your player pack so we can kick off the event promptly at 1:30 pm. \nIf you have a ticket to the championship\, you can enter any other entrance and just come to the spectator course area before 1:30 p.m. to check in. \nIf you do not have a ticket to the championship\, you can only enter through the Ivy Street entrance\, no earlier than 12:30 p.m. \nCLINIC GROUPS EXPLAINED: \nBeginner – This group is for our brand-new players who have just started playing\, have never played before\, or prefer being in a group of very new players for a more comfortable experience. \nIntermediate – You play and know how to throw. You need help to improve your throwing\, get tips on making more putts\, and practice new throws you haven’t learned yet. \nAdvanced – If you play in tournaments\, this is the group you need to be in\, and/or you play regularly\, and you have specific things you want to improve about your game. More distance\, get out of trouble shots\, putting in the wind\, etc…
URL:https://throwpink.com/event/throw-pink-clinic-at-the-championships/
LOCATION:Winthrop Lake\, 1162 Eden Terrace\, Rock Hill\, 29730
ATTACH;FMTTYPE=image/jpeg:https://throwpink.com/wp-content/uploads/2025/09/throw-pink-clinic-at-the-championships-1757094691-large.jpg
END:VEVENT
BEGIN:VEVENT
DTSTART;TZID=America/New_York:20251019T080000
DTEND;TZID=America/New_York:20251019T170000
DTSTAMP:20260421T142721
CREATED:20250929T123841Z
LAST-MODIFIED:20250929T123841Z
UID:529302-1760860800-1760893200@throwpink.com
SUMMARY:FDR Throw Pink Charity Doubles
DESCRIPTION:Doubles for a great cause
URL:https://throwpink.com/event/fdr-throw-pink-charity-doubles-2/
LOCATION:FDR State Park\, 2957 Crompond Road\, Yorktown Heights\, NY\, 10598\, United States
END:VEVENT
BEGIN:VEVENT
DTSTART;TZID=America/New_York:20251025T080000
DTEND;TZID=America/New_York:20251025T160000
DTSTAMP:20260421T142721
CREATED:20250929T123808Z
LAST-MODIFIED:20250929T123808Z
UID:529365-1761379200-1761408000@throwpink.com
SUMMARY:Toss for Tatas: A Spooky Throw Pink Event
DESCRIPTION:A four person team event plus costume contest! We will have raffles\, CTP’s\, an Ace pot (that if nobody hits will be donated) and other fun things!
URL:https://throwpink.com/event/toss-for-tatas-a-spooky-throw-pink-event/
LOCATION:CT
ATTACH;FMTTYPE=image/png:https://throwpink.com/wp-content/uploads/2025/08/Toss-for-Tatas.png
END:VEVENT
BEGIN:VEVENT
DTSTART;TZID=America/New_York:20251025T090000
DTEND;TZID=America/New_York:20251025T170000
DTSTAMP:20260421T142721
CREATED:20250929T123728Z
LAST-MODIFIED:20250929T123748Z
UID:529793-1761382800-1761411600@throwpink.com
SUMMARY:5th Annual Throw Pink Get Real and Heal
DESCRIPTION:A fun day of doubles-New this year\, buy Mulligans in exchange for period products (donated to the NC Diaper Bank) and a live band! Back for the second year\, Chili Cook-Off (that’s lunch) and always great raffles prizes and free on-site camping! All proceeds donated to DUKE Cancer Institute\, Get real and Heel after cancer treatment fitness center at UNC and Throw Pink.
URL:https://throwpink.com/event/5th-annual-throw-pink-get-real-and-heal/
LOCATION:Deep Creek Dreams\, 2360 Deep Creek Church Rd.\, Burlington\, NC\, 27217\, United States
ATTACH;FMTTYPE=image/png:https://throwpink.com/wp-content/uploads/2025/09/TLG.png
ORGANIZER;CN="Cindy Riley":MAILTO:cindykriley@gmail.com
END:VEVENT
BEGIN:VEVENT
DTSTART;VALUE=DATE:20251026
DTEND;VALUE=DATE:20251027
DTSTAMP:20260421T142721
CREATED:20250929T123712Z
LAST-MODIFIED:20250929T123712Z
UID:529421-1761436800-1761523199@throwpink.com
SUMMARY:2025 Gals Fall Frenzy
DESCRIPTION:Save the date for the 6th annual Gals Fall Frenzy! \nThis year we are hosting this event at WildWood Park\, a beautiful wooded course just north of Atlanta. \nThe highly coveted Gals branded SWAG is back again! \n_________________________________________________________________ \nLAYOUTS: \n– ALL players (besides FJ06 and FJ08) will be playing the main blue layout.\n– FJ06 and FJ08 will be playing a modified shortened layout & will receive round ratings at the official update after the event. These age groups will also only be playing ONE round.\n__________________________________________________________________ \nJUNIORS PLAY FOR FREE! Thank you to a kind anonymous donor!! \nWe will be doing the players party and early check-in on Saturday October 25th at Schoolhouse Brewing from 5:30 – 7:30 pm. We will have food & games and you will be able to pick up your player pack here (this is a kid friendly venue with some arcade games & board games available plus non-alcoholic drinks). We will have food\, players will be responsible for purchasing their own drinks. \nLunch will be a potluck style on tournament day — stay tuned for more details on what to bring! \nCTP’s\, raffle & fun games throughout the day. \nTrophies & payout will be handed out for the event per usual to our top players in each division.
URL:https://throwpink.com/event/2025-gals-fall-frenzy/
LOCATION:Wildwood park\, Marietta GA\, 1050 Barclay Cir\, Marietta\, 30060\, United States
ATTACH;FMTTYPE=image/jpeg:https://throwpink.com/wp-content/uploads/2025/08/2025-gals-fall-frenzy-1751484092-large.jpg
ORGANIZER;CN="Sierra Buford":MAILTO:galsdiscgolf@gmail.com
END:VEVENT
END:VCALENDAR