BEGIN:VCALENDAR
VERSION:2.0
PRODID:-//Throw Pink - ECPv6.6.2//NONSGML v1.0//EN
CALSCALE:GREGORIAN
METHOD:PUBLISH
X-WR-CALNAME:Throw Pink
X-ORIGINAL-URL:https://throwpink.com
X-WR-CALDESC:Events for Throw Pink
REFRESH-INTERVAL;VALUE=DURATION:PT1H
X-Robots-Tag:noindex
X-PUBLISHED-TTL:PT1H
BEGIN:VTIMEZONE
TZID:America/New_York
BEGIN:DAYLIGHT
TZOFFSETFROM:-0500
TZOFFSETTO:-0400
TZNAME:EDT
DTSTART:20230312T070000
END:DAYLIGHT
BEGIN:STANDARD
TZOFFSETFROM:-0400
TZOFFSETTO:-0500
TZNAME:EST
DTSTART:20231105T060000
END:STANDARD
END:VTIMEZONE
BEGIN:VEVENT
DTSTART;TZID=America/New_York:20231208T123000
DTEND;TZID=America/New_York:20231208T163000
DTSTAMP:20260422T234615
CREATED:20231129T025544Z
LAST-MODIFIED:20231129T025544Z
UID:518269-1702038600-1702053000@throwpink.com
SUMMARY:Glow Pink - Lights Out On Cancer (Flex Start Event)
DESCRIPTION:Please join us for a fun night of glow golf to help raise money for Throw Pink’s health initiatives. Fun with a purpose. It’s time to turn the lights out on cancer. \nYour entry fee includes: \n– Fun glow disc golf experience\n– Throw Pink Glow disc\n– Innova Glow Flashlight\,\n– Throw Pink Glow silicone bracelet\n– Throw Pink glow sticker\n– A chance to make a difference \nThis flex start event has tee times every ten minutes from 5:30 to 9:30. \nThe layout will be the original nine plus a couple of temp holes to extend the fun. More details coming soon. \nPlayers will have the chance to go around the course twice with their entry fee.\nYou will record each loop separately\, and we will take your best score for the leaderboard and award the divisional prizes. \nYou better make it good if you only have time for one loop. 🙂 \nThe ace pool is one big pool for all divisions\, but there will be separate ace prizes per division. \nThis event is for ALL Skill levels. If you’re unsure what division to sign up for\, you can register for the IDK division\, and we can help assign you to the appropriate division before your tee time. If you sign up for a division below your skill level\, we will ask you to move up before teeing off to keep the fields as accurate as possible. \nPlease note the divisions are not based on the PDGA divisions. If you play disc golf regularly\, especially in events\, you should be in the professional and advanced divisions on this track. The Pro division at this event is not just for registered PDGA professional players. Also\, players who regularly shoot under par on this short track should sign up for professional or advanced. \nLet us know if you have any questions. We are still tweaking the best divisions for this and are open to suggestions for our next Lights Out On Cancer fundraising event.
URL:https://throwpink.com/event/glow-pink-lights-out-on-cancer-flex-start-event/
LOCATION:Fewell Park\, 1204 Alexander Rd\, Rock Hill\, SC\, 29732\, United States
CATEGORIES:Upcoming Events
ATTACH;FMTTYPE=image/png:https://throwpink.com/wp-content/uploads/2023/11/Pink-Black-Glow-in-the-Dark-Club-Party-Poster.png
END:VEVENT
END:VCALENDAR